BEGIN:VCALENDAR
VERSION:2.0
PRODID:-//Houghton Spießbraten - ECPv6.15.20//NONSGML v1.0//EN
CALSCALE:GREGORIAN
METHOD:PUBLISH
X-WR-CALNAME:Houghton Spießbraten
X-ORIGINAL-URL:https://fam-houghton.de
X-WR-CALDESC:Veranstaltungen für Houghton Spießbraten
REFRESH-INTERVAL;VALUE=DURATION:PT1H
X-Robots-Tag:noindex
X-PUBLISHED-TTL:PT1H
BEGIN:VTIMEZONE
TZID:Europe/Berlin
BEGIN:DAYLIGHT
TZOFFSETFROM:+0100
TZOFFSETTO:+0200
TZNAME:CEST
DTSTART:20250330T010000
END:DAYLIGHT
BEGIN:STANDARD
TZOFFSETFROM:+0200
TZOFFSETTO:+0100
TZNAME:CET
DTSTART:20251026T010000
END:STANDARD
BEGIN:DAYLIGHT
TZOFFSETFROM:+0100
TZOFFSETTO:+0200
TZNAME:CEST
DTSTART:20260329T010000
END:DAYLIGHT
BEGIN:STANDARD
TZOFFSETFROM:+0200
TZOFFSETTO:+0100
TZNAME:CET
DTSTART:20261025T010000
END:STANDARD
BEGIN:DAYLIGHT
TZOFFSETFROM:+0100
TZOFFSETTO:+0200
TZNAME:CEST
DTSTART:20270328T010000
END:DAYLIGHT
BEGIN:STANDARD
TZOFFSETFROM:+0200
TZOFFSETTO:+0100
TZNAME:CET
DTSTART:20271031T010000
END:STANDARD
END:VTIMEZONE
BEGIN:VEVENT
DTSTART;VALUE=DATE:20260404
DTEND;VALUE=DATE:20260427
DTSTAMP:20260421T112111
CREATED:20230222T113632Z
LAST-MODIFIED:20260211T142954Z
UID:1944-1775260800-1777247999@fam-houghton.de
SUMMARY:Frühlingsfest Hannover 2026
DESCRIPTION:  \n  \nhttps://www.fruehlingsfest-hannover.de/
URL:https://fam-houghton.de/veranstaltungen/fruehlingsfest-hannover-2023/
LOCATION:Schützenplatz Hannover\, Bruchmeisterallee 1A\, Hannover\, Niedersachsen\, 30169\, Germany
END:VEVENT
END:VCALENDAR